BEGIN:VCALENDAR
PRODID:-//Microsoft Corporation//Outlook 16.0 MIMEDIR//EN
VERSION:2.0
METHOD:PUBLISH
X-MS-OLK-FORCEINSPECTOROPEN:TRUE
BEGIN:VTIMEZONE
TZID:W. Europe Standard Time
BEGIN:STANDARD
DTSTART:16011028T030000
RRULE:FREQ=YEARLY;BYDAY=-1SU;BYMONTH=10
TZOFFSETFROM:+0200
TZOFFSETTO:+0100
END:STANDARD
BEGIN:DAYLIGHT
DTSTART:16010325T020000
RRULE:FREQ=YEARLY;BYDAY=-1SU;BYMONTH=3
TZOFFSETFROM:+0100
TZOFFSETTO:+0200
END:DAYLIGHT
END:VTIMEZONE
BEGIN:VEVENT
CLASS:PUBLIC
CREATED:20260210T124122Z
DTEND;TZID="W. Europe Standard Time":20260609T113000
DTSTAMP:20260210T124122Z
DTSTART;TZID="W. Europe Standard Time":20260609T090000
LAST-MODIFIED:20260210T124122Z
LOCATION:Krone Mosnang (Unterdorf 20\, 9607 Mosnang St Gallen\, Schweiz)
PRIORITY:5
SEQUENCE:0
SUMMARY;LANGUAGE=de:TT-Mitgliederversammlung 2026
TRANSP:OPAQUE
UID:040000008200E00074C5B7101A82E00800000000448F2217899ADC01000000000000000
	0100000005BA86A70DBA8F5428EB18EDABAFCD34E
X-ALT-DESC;FMTTYPE=text/html:
X-MICROSOFT-CDO-BUSYSTATUS:BUSY
X-MICROSOFT-CDO-IMPORTANCE:1
BEGIN:VALARM
TRIGGER:-PT15M
ACTION:DISPLAY
DESCRIPTION:Reminder
END:VALARM
END:VEVENT
END:VCALENDAR
